{"text_format":"1","workbook":"xlsx","n_sheets":9,"sheets":["依頼書作成フォーム","①依頼書","②国際業務Ｇ控","③お客さま控","手形(JPY)","手形(USD)","LC無　手形(JPY) ","LC無　手形(USD)  ","Sheet2"],"not_rendered":{"charts":0,"images":2,"macros":1,"external_links":0,"defined_names":9,"comments":0,"pivot_tables":0},"unopened":[],"bounds":{"document_bytes":16777216,"sheet_cells":100000,"rows_first":2000,"rows_last":500,"rows_between":2000,"halvings":0,"cell_chars":16384,"cell_head_chars":4096},"cells_cut":0,"cells_raw":0,"read":"whole","date_system":"1900"}

{"sheet":"依頼書作成フォーム","index":0,"n_rows":90,"n_cols":20,"rows_kept":90,"cut":false,"hidden":false,"merged":[[29,2,29,17],[13,16,13,17],[16,3,16,12],[17,3,17,12],[18,3,18,12],[17,13,17,19],[13,10,13,12],[23,3,23,12],[21,3,21,9],[22,2,22,19],[26,10,26,19],[27,10,27,19],[24,3,24,12],[73,2,74,16],[64,10,64,19],[70,5,70,9],[70,2,70,4],[69,10,69,19],[68,10,68,19],[68,3,68,9],[69,3,69,9],[65,2,66,2],[65,3,65,7],[65,8,65,9],[65,10,65,14],[66,3,66,7],[66,8,66,9],[66,10,66,14],[72,2,72,19],[38,11,38,18],[38,3,38,10],[55,2,55,7],[55,8,55,9],[53,8,53,9],[54,8,54,9],[51,2,51,7],[51,8,51,9],[52,8,52,9],[44,2,44,7],[48,2,48,7],[48,8,48,9],[45,2,45,7],[39,3,39,10],[41,3,41,10],[49,2,49,7],[1,1,1,19],[9,2,10,2],[34,3,34,16],[3,3,3,9],[13,3,13,9],[26,3,26,9],[27,3,27,9],[25,3,25,12],[30,3,30,16],[11,2,12,2],[12,3,12,5],[11,6,12,12],[2,1,2,18],[5,2,5,19],[8,2,8,19],[9,6,9,12],[64,3,64,9],[63,3,63,11],[45,8,45,9],[58,3,58,10],[57,2,57,19],[62,2,62,19],[60,3,60,16],[59,2,60,2],[50,8,50,9],[50,2,50,7],[52,2,52,7],[53,2,53,7],[46,2,46,7],[47,2,47,7],[54,2,54,7],[59,3,59,16],[49,8,49,9],[46,8,46,9],[47,8,47,9],[40,3,40,10],[44,8,44,9],[43,2,43,19],[9,3,9,5],[10,3,10,5],[9,13,9,18],[37,3,37,10],[3,10,3,18],[11,3,11,5],[6,3,6,16],[36,2,36,19],[21,16,21,17],[21,10,21,14],[33,2,33,19],[10,13,10,19],[15,2,15,19],[20,2,20,19],[10,6,10,12],[31,3,31,16]]}
[]
[null,"　輸出手形 取立 依頼書　作成フォーム　  (Export Bill Collection Request Form)\n"]
[null,"　① 書類を店頭へ提出いただく日付を入力してください。\n        Please enter the date you will submit the documents to our bank."]
[null,null,"ご依頼日",null,null,null,null,null,null,null," ※ YYYY／MM／DDの形で入力してください。"]
[]
[" ",null,"② 貴社名を英文で入力してください。\n     Please enter your company name in English."]
[null,null,"輸出者"]
[]
[null,null,"③「金額」・「期日」および「建値」を入力してください。\n      Please enter the \"Amount,\" \"Due Date,\" and \"Trade Terms\""]
[null,null,"金額","通貨",null,null,"金額"]
[]
[null,null,"期日"]
[null,null,null,"※日数を入力"]
[null,null,"建値"]
[]
[null,null,"④ 手形（Bill of Exchange）を振り出す場合は必要な情報を入力してください。\n     If you are drawing a Bill of Exchange, please enter the necessary informations."]
[null,null,"手形番号"]
[null,null,"手形振出地\n（手形作成地）",null,null,null,null,null,null,null,null,null,null," ※（例） BEPPU-CITY OITA JAPAN"]
[null,null,"手形作成日",null,null,null,null,null,null,null,null,null,null," ※ YYYY／MM／DDの形で入力してください。"]
[]
[null,null,"⑤「信用状（Ｌ/Ｃ）情報」を入力してください。\n     Please enter the \"Letter of Credit (L/C) Information.\""]
[null,null,"信用状有無",null,null,null,null,null,null,null,"※「信用状なし」の場合に選択してください。\n Please select if there is no Letter of Credit.",null,null,null,null,"➡","書類引渡条件"]
[null,null,"※  信用状付の場合は以下の情報を入力してください。\n       If a Letter of Credit is involved, please enter the following informations."]
[null,null,"信用状番号"]
[null,null,"信用状発行日",null,null,null,null,null,null,null,null,null,null," ※ YYYY／MM／DDの形で入力してください。"]
[null,null,"信用状原本"]
[null,null,"船積期限",null,null,null,null,null,null,null," ※ YYYY／MM／DDの形で入力してください。"]
[null,null,"有効期限",null,null,null,null,null,null,null," ※ YYYY／MM／DDの形で入力してください。"]
[]
[null,null,"⑥ 「Ｌ/Ｃ発行銀行／取立銀行」・「輸入者（取引相手）」を入力してください。\n　 Please enter the \"L/C issuing Bank\"or the \"Collecting Bank\" and the \"Importer/Buyer.\""]
[null,null,"L/C発行銀行\n取立銀行"]
[null,null,"輸入者"]
[]
[null,null,"⑦「商品名」を入力してください。\n   Please enter the \"Description of Goods.\""]
[null,null,"商品名"]
[]
[null,null,"⑧「船荷証券（Ｂ/Ｌ）情報」を入力してください。\n     Please enter the \"Bill of Lading (B/L) Information.\""]
[null,null,"B/L No."]
[null,null,"船積日",null,null,null,null,null,null,null,null," ※ YYYY／MM／DDの形で入力してください。"]
[null,null,"船名"]
[null,null,"船積港"]
[null,null,"荷揚港"]
[]
[null,null,"⑨ 添付書類の通数を入力してください。\n     Please enter the number of attached documents."]
[null,null,"書類名",null,null,null,null,null,"通数"]
[null,null,"Draft (Bill of Exchange)"]
[null,null,"Commercial Invoice"]
[null,null,"Bill of Lading"]
[null,null,"Non-Negotiable B/L"]
[null,null,"Insurance Policy/Certificate"]
[null,null,"Packing List"]
[null,null,"Inspection Certificate"]
[null,null,"Certificate of Origin"]
[null,null,"Beneficiary Certificate"]
[null,null,"Certificate"]
[null,null,"Other（上記以外のその他書類）"]
[]
[null,null,"⑩ 書類の「ディスクレパンシー」（信用状との条件違反）について入力してください。（すべて英文で入力してください。）\n     Please enter informations regarding \"Discrepancies\" (non-compliance with L/C terms) in the documents, if any. (Please enter all information in English.)"]
[null,null,"ディスクレ有無"]
[null,null,"ディスクレ内容"]
[]
[]
[null,null,"⑪ 取立代り金の入金情報を入力してください。\n     Please enter the account details for the collection proceeds."]
[null,null,"決済方法"]
[null,null,"予約番号",null,null,null,null,null,null,null," ※ 決済方法に「円貨受（為替予約使用）」を選択した場合のみ入力してください。\n       Required only if \"Forward Exchange Contract\" is selected as the payment method."]
[null,null,"入金口座","口座種類",null,null,null,null,"店番",null,"口座番号"]
[]
[]
[null,null,"輸出前貸",null,null,null,null,null,null,null," ※ 輸出前貸「あり」を選択した場合「期日」・「金額」を入力してください。\n      If \"Export Prepayment (Advance)\" is selected, please enter the \"Due Date\" and \"Amount.\""]
[null,null,"期日",null,null,null,null,null,null,null," ※ YYYY／MM／DDの形で入力してください。"]
[null,null,"返済（内入）金額（円）"]
[]
[null,null,"⑫ 取立に当たって当行への特別な指示事項があればご記入ください。（すべて英文で入力してください。）\n     If you have any special instructions for us regarding this collection, please write them here. (Please enter all information in English.)"]
[]
[]
[]
[]
[]
[null,null,"JPY","FOB",null,"普通預金",null,null,null,null,"添付",null,"有","円貨受（SPOTまたは円建円貨受）",null,null,null,null,"At sight","要"]
[null,null,"USD","CFR",null,"当座預金",null,null,null,null,"銀行保管",null,"無","外貨受（NON-EX）",null,null,null,null,"days after B/L date","不要"]
[null,null,null,"CIF",null,"外貨普通預金",null,null,null,null,null,null,null,"円貨受（為替予約使用）",null,null,null,null,"days after sight"]
[null,null,"信用状付","FCA"]
[null,null,"信用状なし","CPT"]
[null,null,null,"CIP"]
[]
[]
[]
[]
[null,null,"  D/P"]
[null,null,"  D/A"]

{"sheet":"①依頼書","index":1,"n_rows":54,"n_cols":28,"rows_kept":54,"cut":false,"hidden":false,"merged":[[26,0,26,9],[25,0,25,9],[35,11,36,12],[39,0,40,2],[39,4,39,27],[40,4,40,27],[34,20,34,22],[34,23,34,25],[47,16,47,27],[41,0,41,27],[42,0,43,0],[42,1,43,27],[35,15,36,16],[35,17,36,19],[35,20,36,22],[35,23,36,25],[38,0,38,2],[38,3,38,27],[35,3,36,4],[35,5,36,6],[27,0,27,18],[28,0,28,18],[35,13,36,14],[32,10,32,18],[53,16,53,27],[49,16,49,18],[49,19,49,21],[50,19,52,21],[50,22,52,24],[50,25,52,27],[49,22,49,24],[49,25,49,27],[48,16,48,21],[48,22,48,27],[29,1,29,6],[29,7,29,11],[30,12,30,18],[31,1,31,9],[31,10,31,18],[32,1,32,9],[34,17,34,19],[35,1,36,2],[35,7,36,8],[35,9,36,10],[33,0,33,18],[34,1,34,2],[34,3,34,4],[34,5,34,6],[34,7,34,8],[34,9,34,10],[34,11,34,12],[34,13,34,14],[34,15,34,16],[26,10,26,18],[17,0,18,4],[17,5,18,6],[17,7,18,13],[17,14,17,15],[17,17,17,27],[18,15,18,17],[18,18,18,21],[18,22,18,27],[25,10,25,18],[25,19,32,27],[30,1,30,6],[30,7,30,11],[24,20,24,27],[19,0,19,27],[21,0,21,27],[20,1,20,27],[22,1,22,27],[29,12,29,18],[23,12,23,19],[23,20,23,27],[23,0,23,11],[24,0,24,11],[29,0,32,0],[14,20,14,21],[14,22,14,27],[15,14,16,19],[15,20,16,21],[15,22,16,27],[16,0,16,4],[16,5,16,13],[13,0,13,8],[13,9,13,13],[14,0,15,1],[14,2,15,8],[14,9,15,13],[4,20,6,27],[45,0,45,12],[46,0,52,12],[12,32,16,44],[0,11,0,19],[0,7,0,10],[1,0,1,27],[3,15,6,16],[3,17,3,19],[3,20,3,27],[4,0,8,12],[4,17,6,19],[2,0,3,13],[10,16,10,27],[11,0,12,15],[11,16,11,27],[12,16,12,20],[12,22,12,26],[8,15,9,16],[24,12,24,19],[8,17,9,27],[10,0,10,14],[13,14,13,27],[14,14,14,19]]}
[null,null,null,null,null,null,null,{"$f":"IF(依頼書作成フォーム!D22=\"\",\"\",依頼書作成フォーム!D22)","v":""},null,null,null,"輸出手形取立依頼書"]
["APPLICATION FOR COLLECTION"]
["大分銀行 御中"]
[null,null,null,null,null,null,null,null,null,null,null,null,null,null,null,"取組番号",null,"店番",null,null,"取組番号"]
["下記輸出手形および/または輸出船積書類の取立を依頼します。\n依頼に当たっては貴行より提示された外国向為替手形取立規定\nの各条項に従います。",null,null,null,null,null,null,null,null,null,null,null,null,null,null,null,null,null,null,null,"-104-"]
[]
[]
[]
[null,null,null,null,null,null,null,null,null,null,null,null,null,null,null,"ご依頼日",null,{"$f":"IF(依頼書作成フォーム!D4=\"\",\"\",依頼書作成フォーム!D4)","v":""}]
[]
[" お名前（英文）",null,null,null,null,null,null,null,null,null,null,null,null,null,null,null," 代り金決済方法"]
[{"$f":"IF(依頼書作成フォーム!D7=\"\",\"\",依頼書作成フォーム!D7)","v":""},null,null,null,null,null,null,null,null,null,null,null,null,null,null,null,{"$f":"IF(依頼書作成フォーム!D64=\"\",\"\",依頼書作成フォーム!D64)","v":""}]
[null,null,null,null,null,null,null,null,null,null,null,null,null,null,null,null,"為替予約番号",null,null,null,null,"（",{"$f":"IF(依頼書作成フォーム!D65=\"\",\"\",依頼書作成フォーム!D65)","v":""},null,null,null,null,"）"]
[" 金額",null,null,null,null,null,null,null,null," 手形番号",null,null,null,null," 代り金入金口座"]
[{"$f":"IF(依頼書作成フォーム!D11=\"\",\"\",依頼書作成フォーム!D11)","v":""},null,{"$f":"IF(依頼書作成フォーム!G11=\"\",\"\",依頼書作成フォーム!G11)","v":""},null,null,null,null,null,null,{"$f":"IF(依頼書作成フォーム!D17=\"\",\"-----\",依頼書作成フォーム!D17)","v":"-----"},null,null,null,null,"口座種類",null,null,null,null,null,"店番",null,"口座番号"]
[null,null,null,null,null,null,null,null,null,null,null,null,null,null,{"$f":"IF(依頼書作成フォーム!D67=\"\",\"\",依頼書作成フォーム!D67)","v":""},null,null,null,null,null,{"$f":"IF(依頼書作成フォーム!I67=\"\",\"\",依頼書作成フォーム!I67)","v":""},null,{"$f":"IF(依頼書作成フォーム!K67=\"\",\"\",依頼書作成フォーム!K67)","v":""}]
[" 建値 ",null,null,null,null," TENOR （テナー)"]
[{"$f":"IF(依頼書作成フォーム!D14=\"\",\"\",依頼書作成フォーム!D14)","v":""},null,null,null,null,{"$f":"IF(依頼書作成フォーム!D12=\"\",\"\",依頼書作成フォーム!D12)","v":""},null,{"$f":"IF(依頼書作成フォーム!G12=\"\",\"\",依頼書作成フォーム!G12)","v":""},null,null,null,null,null,null,"輸出前貸",null,{"$f":"IF(依頼書作成フォーム!D69=\"\",\"\",依頼書作成フォーム!D69)","v":""}]
[null,null,null,null,null,null,null,null,null,null,null,null,null,null,"期日",{"$f":"IF(依頼書作成フォーム!D70=\"\",\"\",依頼書作成フォーム!D70)","v":""},null,null,"金額 （円）",null,null,null,{"$f":"IF(依頼書作成フォーム!F71=\"\",\"\",依頼書作成フォーム!F71)","v":""}]
[" 輸入者"]
[null,{"$f":"IF(依頼書作成フォーム!D32=\"\",\"\",依頼書作成フォーム!D32)","v":""}]
[" 信用状発行銀行／取立銀行"]
[null,{"$f":"IF(依頼書作成フォーム!D31=\"\",\"\",依頼書作成フォーム!D31)","v":""}]
[" 信用状番号",null,null,null,null,null,null,null,null,null,null,null," 信用状発行日 ( ISSUE DATE )",null,null,null,null,null,null,null," 信用状原本"]
[{"$f":"IF(依頼書作成フォーム!D24=\"\",\"-----\",依頼書作成フォーム!D24)","v":"-----"},null,null,null,null,null,null,null,null,null,null,null,{"$f":"IF(依頼書作成フォーム!D25=\"\",\"-----\",依頼書作成フォーム!D25)","v":"-----"},null,null,null,null,null,null,null,{"$f":"IF(依頼書作成フォーム!D26=\"\",\"-----\",依頼書作成フォーム!D26)","v":"-----"}]
[" 船積期限 (LATEST SHIPPING DATE))",null,null,null,null,null,null,null,null,null," 有効期限 (EXPIRY DATE)",null,null,null,null,null,null,null,null,"\n □ 外為法に基づく北朝鮮・\n     イランに対する経済制裁\n     および、ウクライナ情勢に\n     関する措置には該当しま\n     せん。"]
[{"$f":"IF(依頼書作成フォーム!D27=\"\",\"-----\",依頼書作成フォーム!D27)","v":"-----"},null,null,null,null,null,null,null,null,null,{"$f":"IF(依頼書作成フォーム!D28=\"\",\"-----\",依頼書作成フォーム!D28)","v":"-----"}]
[" 輸出商品名・数量"]
[{"$f":"IF(依頼書作成フォーム!D35=\"\",\"\",依頼書作成フォーム!D35)","v":""}]
["B/L"," B/L 番号",null,null,null,null,null," B/L 発行日",null,null,null,null," 船名"]
[null,{"$f":"IF(依頼書作成フォーム!D38=\"\",\"\",依頼書作成フォーム!D38)","v":""},null,null,null,null,null,{"$f":"IF(依頼書作成フォーム!D39=\"\",\"\",依頼書作成フォーム!D39)","v":""},null,null,null,null,{"$f":"IF(依頼書作成フォーム!D40=\"\",\"\",依頼書作成フォーム!D40)","v":""}]
[null," 船積港",null,null,null,null,null,null,null,null," 荷揚港"]
[null,{"$f":"IF(依頼書作成フォーム!D41=\"\",\"\",依頼書作成フォーム!D41)","v":""},null,null,null,null,null,null,null,null,{"$f":"IF(依頼書作成フォーム!D42=\"\",\"\",依頼書作成フォーム!D42)","v":""}]
["   DOCUMENTS ATTACHED",null,null,null,null,null,null,null,null,null,null,null,null,null,null,null,null,null,null," "]
[null,"DRAFT",null,"COM.\nINVOICE",null,"BILL OF\nLADING",null,"N.N. B/L",null,"INSURANCE\n POLICY",null,"PACKING\nLIST",null,"INSPECTION\nCERT.",null,"CERT.OF ORIGIN",null,"BENE.\nCERT.",null,null,"CERT.",null,null,"OTHER "]
[null,{"$f":"IF(依頼書作成フォーム!I46=\"\",\"\",依頼書作成フォーム!I46)","v":""},null,{"$f":"IF(依頼書作成フォーム!I47=\"\",\"\",依頼書作成フォーム!I47)","v":""},null,{"$f":"IF(依頼書作成フォーム!I48=\"\",\"\",依頼書作成フォーム!I48)","v":""},null,{"$f":"IF(依頼書作成フォーム!I49=\"\",\"\",依頼書作成フォーム!I49)","v":""},null,{"$f":"IF(依頼書作成フォーム!I50=\"\",\"\",依頼書作成フォーム!I50)","v":""},null,{"$f":"IF(依頼書作成フォーム!I51=\"\",\"\",依頼書作成フォーム!I51)","v":""},null,{"$f":"IF(依頼書作成フォーム!I52=\"\",\"\",依頼書作成フォーム!I52)","v":""},null,{"$f":"IF(依頼書作成フォーム!I53=\"\",\"\",依頼書作成フォーム!I53)","v":""},null,{"$f":"IF(依頼書作成フォーム!I54=\"\",\"\",依頼書作成フォーム!I54)","v":""},null,null,{"$f":"IF(依頼書作成フォーム!I55=\"\",\"\",依頼書作成フォーム!I55)","v":""},null,null,{"$f":"IF(依頼書作成フォーム!I56=\"\",\"\",依頼書作成フォーム!I56)","v":""}]
[]
[]
["DISCREPANCY",null,null,"　(ディスクレの内容）"]
[{"$f":"IF(依頼書作成フォーム!D59=\"\",\"\",依頼書作成フォーム!D59)","v":""},null,null,"・",{"$f":"IF(依頼書作成フォーム!D60=\"\",\"\",依頼書作成フォーム!D60)","v":""}]
[null,null,null,"・",{"$f":"IF(依頼書作成フォーム!D61=\"\",\"\",依頼書作成フォーム!D61)","v":""}]
["SPECIAL INSTRUCTIONS"]
[null,{"$f":"IF(依頼書作成フォーム!C74=\"\",\"\",依頼書作成フォーム!C74)","v":""}]
[]
[]
["　ご依頼人氏名（商号・代表者）"]
["\n\n\n\n\n                                           ㊞　　　　　　　　　　　　　　"]
[null,null,null,null,null,null,null,null,null,null,null,null,null,null,null,null,"受付店使用欄"]
[null,null,null,null,null,null,null,null,null,null,null,null,null,null,null,null," 受付日",null,null,null,null,null," 決済日"]
[null,null,null,null,null,null,null,null,null,null,null,null,null,null,null,null,"検　印",null,null,"係　印",null,null,"検　印",null,null,"係　印"]
[]
[]
[]
[null,null,null,null,null,null,null,null,null,null,null,null,null,null,null,null,"輸出手形取立依頼書1/3　（受付店保管）"]

{"sheet":"②国際業務Ｇ控","index":2,"n_rows":54,"n_cols":28,"rows_kept":54,"cut":false,"hidden":false,"merged":[[54,16,54,27],[53,16,53,27],[46,1,46,4],[47,1,47,4],[48,1,48,2],[48,3,48,4],[49,1,51,2],[49,3,51,4],[39,0,40,2],[39,4,39,27],[40,4,40,27],[41,0,41,27],[42,0,43,0],[42,1,43,27],[47,11,47,14],[48,13,48,14],[49,13,51,14],[46,7,46,14],[48,7,48,8],[49,7,51,8],[48,9,48,10],[48,11,48,12],[49,9,51,10],[49,11,51,12],[47,7,47,10],[51,16,51,27],[35,15,36,16],[35,17,36,19],[35,20,36,22],[35,23,36,25],[38,0,38,2],[38,3,38,27],[34,17,34,19],[34,20,34,22],[34,23,34,25],[35,1,36,2],[35,3,36,4],[35,5,36,6],[35,7,36,8],[35,9,36,10],[35,11,36,12],[35,13,36,14],[34,1,34,2],[34,3,34,4],[34,5,34,6],[34,7,34,8],[34,9,34,10],[34,11,34,12],[34,13,34,14],[34,15,34,16],[33,0,33,18],[29,0,32,0],[29,1,29,6],[29,7,29,11],[29,12,29,18],[30,1,30,6],[30,7,30,11],[30,12,30,18],[31,1,31,9],[31,10,31,18],[32,1,32,9],[17,5,18,6],[17,7,18,13],[17,14,17,15],[17,17,17,27],[18,15,18,17],[18,18,18,21],[18,22,18,27],[25,10,25,18],[25,19,32,27],[26,10,26,18],[27,0,27,18],[28,0,28,18],[32,10,32,18],[23,0,23,11],[24,0,24,11],[25,0,25,9],[26,0,26,9],[0,7,0,10],[0,11,0,19],[10,0,10,14],[10,16,10,27],[11,0,12,15],[11,16,11,27],[12,16,12,20],[12,22,12,26],[8,15,9,16],[8,17,9,27],[1,0,1,27],[2,0,3,13],[3,15,6,16],[3,17,3,19],[3,20,3,27],[4,0,8,12],[4,17,6,19],[4,20,6,27],[12,32,16,44],[19,0,19,27],[21,0,21,27],[23,12,23,19],[23,20,23,27],[24,12,24,19],[24,20,24,27],[20,1,20,27],[22,1,22,27],[13,14,13,27],[14,14,14,19],[14,20,14,21],[14,22,14,27],[15,14,16,19],[15,20,16,21],[15,22,16,27],[16,0,16,4],[16,5,16,13],[13,0,13,8],[13,9,13,13],[14,0,15,1],[14,2,15,8],[14,9,15,13],[17,0,18,4]]}
[null,null,null,null,null,null,null,{"$f":"IF(依頼書作成フォーム!D22=\"\",\"\",依頼書作成フォーム!D22)","v":""},null,null,null,"輸出手形取立依頼書"]
["APPLICATION FOR COLLECTION"]
["大分銀行 御中"]
[null,null,null,null,null,null,null,null,null,null,null,null,null,null,null,"取組番号",null,"店番",null,null,"取組番号"]
["下記輸出手形および/または輸出船積書類の取立を依頼します。\n依頼に当たっては貴行より提示された外国向為替手形取立規定\nの各条項に従います。",null,null,null,null,null,null,null,null,null,null,null,null,null,null,null,null,null,null,null,"-104-"]
[]
[]
[]
[null,null,null,null,null,null,null,null,null,null,null,null,null,null,null,"ご依頼日",null,{"$f":"IF(依頼書作成フォーム!D4=\"\",\"\",依頼書作成フォーム!D4)","v":""}]
[]
[" お名前（英文）",null,null,null,null,null,null,null,null,null,null,null,null,null,null,null," 代り金決済方法"]
[{"$f":"IF(依頼書作成フォーム!D7=\"\",\"\",依頼書作成フォーム!D7)","v":""},null,null,null,null,null,null,null,null,null,null,null,null,null,null,null,{"$f":"IF(依頼書作成フォーム!D64=\"\",\"\",依頼書作成フォーム!D64)","v":""}]
[null,null,null,null,null,null,null,null,null,null,null,null,null,null,null,null,"為替予約番号",null,null,null,null,"（",{"$f":"IF(依頼書作成フォーム!D65=\"\",\"\",依頼書作成フォーム!D65)","v":""},null,null,null,null,"）"]
[" 金額",null,null,null,null,null,null,null,null," 手形番号",null,null,null,null," 代り金入金口座"]
[{"$f":"IF(依頼書作成フォーム!D11=\"\",\"\",依頼書作成フォーム!D11)","v":""},null,{"$f":"IF(依頼書作成フォーム!G11=\"\",\"\",依頼書作成フォーム!G11)","v":""},null,null,null,null,null,null,{"$f":"IF(依頼書作成フォーム!D17=\"\",\"-----\",依頼書作成フォーム!D17)","v":"-----"},null,null,null,null,"口座種類",null,null,null,null,null,"店番",null,"口座番号"]
[null,null,null,null,null,null,null,null,null,null,null,null,null,null,{"$f":"IF(依頼書作成フォーム!D67=\"\",\"\",依頼書作成フォーム!D67)","v":""},null,null,null,null,null,{"$f":"IF(依頼書作成フォーム!I67=\"\",\"\",依頼書作成フォーム!I67)","v":""},null,{"$f":"IF(依頼書作成フォーム!K67=\"\",\"\",依頼書作成フォーム!K67)","v":""}]
[" 建値 ",null,null,null,null," TENOR （テナー)"]
[{"$f":"IF(依頼書作成フォーム!D14=\"\",\"\",依頼書作成フォーム!D14)","v":""},null,null,null,null,{"$f":"IF(依頼書作成フォーム!D12=\"\",\"\",依頼書作成フォーム!D12)","v":""},null,{"$f":"IF(依頼書作成フォーム!G12=\"\",\"\",依頼書作成フォーム!G12)","v":""},null,null,null,null,null,null,"輸出前貸",null,{"$f":"IF(依頼書作成フォーム!D69=\"\",\"\",依頼書作成フォーム!D69)","v":""}]
[null,null,null,null,null,null,null,null,null,null,null,null,null,null,"期日",{"$f":"IF(依頼書作成フォーム!D70=\"\",\"\",依頼書作成フォーム!D70)","v":""},null,null,"金額 （円）",null,null,null,{"$f":"IF(依頼書作成フォーム!F71=\"\",\"\",依頼書作成フォーム!F71)","v":""}]
[" 輸入者"]
[null,{"$f":"IF(依頼書作成フォーム!D32=\"\",\"\",依頼書作成フォーム!D32)","v":""}]
[" 信用状発行銀行／取立銀行"]
[null,{"$f":"IF(依頼書作成フォーム!D31=\"\",\"\",依頼書作成フォーム!D31)","v":""}]
[" 信用状番号",null,null,null,null,null,null,null,null,null,null,null," 信用状発行日 ( ISSUE DATE )",null,null,null,null,null,null,null," 信用状原本"]
[{"$f":"IF(依頼書作成フォーム!D24=\"\",\"-----\",依頼書作成フォーム!D24)","v":"-----"},null,null,null,null,null,null,null,null,null,null,null,{"$f":"IF(依頼書作成フォーム!D25=\"\",\"-----\",依頼書作成フォーム!D25)","v":"-----"},null,null,null,null,null,null,null,{"$f":"IF(依頼書作成フォーム!D26=\"\",\"-----\",依頼書作成フォーム!D26)","v":"-----"}]
[" 船積期限 (LATEST SHIPPING DATE))",null,null,null,null,null,null,null,null,null," 有効期限 (EXPIRY DATE)"]
[{"$f":"IF(依頼書作成フォーム!D27=\"\",\"-----\",依頼書作成フォーム!D27)","v":"-----"},null,null,null,null,null,null,null,null,null,{"$f":"IF(依頼書作成フォーム!D28=\"\",\"-----\",依頼書作成フォーム!D28)","v":"-----"}]
[" 輸出商品名・数量"]
[{"$f":"IF(依頼書作成フォーム!D35=\"\",\"\",依頼書作成フォーム!D35)","v":""}]
["B/L"," B/L 番号",null,null,null,null,null," B/L 発行日",null,null,null,null," 船名"]
[null,{"$f":"IF(依頼書作成フォーム!D38=\"\",\"\",依頼書作成フォーム!D38)","v":""},null,null,null,null,null,{"$f":"IF(依頼書作成フォーム!D39=\"\",\"\",依頼書作成フォーム!D39)","v":""},null,null,null,null,{"$f":"IF(依頼書作成フォーム!D40=\"\",\"\",依頼書作成フォーム!D40)","v":""}]
[null," 船積港",null,null,null,null,null,null,null,null," 荷揚港"]
[null,{"$f":"IF(依頼書作成フォーム!D41=\"\",\"\",依頼書作成フォーム!D41)","v":""},null,null,null,null,null,null,null,null,{"$f":"IF(依頼書作成フォーム!D42=\"\",\"\",依頼書作成フォーム!D42)","v":""}]
["   DOCUMENTS ATTACHED"]
[null,"DRAFT",null,"COM.\nINVOICE",null,"BILL OF\nLADING",null,"N.N. B/L",null,"INSURANCE\n POLICY",null,"PACKING\nLIST",null,"INSPECTION\nCERT.",null,"CERT.OF ORIGIN",null,"BENE.\nCERT.",null,null,"CERT.",null,null,"OTHER "]
[null,{"$f":"IF(依頼書作成フォーム!I46=\"\",\"\",依頼書作成フォーム!I46)","v":""},null,{"$f":"IF(依頼書作成フォーム!I47=\"\",\"\",依頼書作成フォーム!I47)","v":""},null,{"$f":"IF(依頼書作成フォーム!I48=\"\",\"\",依頼書作成フォーム!I48)","v":""},null,{"$f":"IF(依頼書作成フォーム!I49=\"\",\"\",依頼書作成フォーム!I49)","v":""},null,{"$f":"IF(依頼書作成フォーム!I50=\"\",\"\",依頼書作成フォーム!I50)","v":""},null,{"$f":"IF(依頼書作成フォーム!I51=\"\",\"\",依頼書作成フォーム!I51)","v":""},null,{"$f":"IF(依頼書作成フォーム!I52=\"\",\"\",依頼書作成フォーム!I52)","v":""},null,{"$f":"IF(依頼書作成フォーム!I53=\"\",\"\",依頼書作成フォーム!I53)","v":""},null,{"$f":"IF(依頼書作成フォーム!I54=\"\",\"\",依頼書作成フォーム!I54)","v":""},null,null,{"$f":"IF(依頼書作成フォーム!I55=\"\",\"\",依頼書作成フォーム!I55)","v":""},null,null,{"$f":"IF(依頼書作成フォーム!I56=\"\",\"\",依頼書作成フォーム!I56)","v":""}]
[]
[]
["DISCREPANCY",null,null,"　(ディスクレの内容）"]
[{"$f":"IF(依頼書作成フォーム!D59=\"\",\"\",依頼書作成フォーム!D59)","v":""},null,null,"・",{"$f":"IF(依頼書作成フォーム!D60=\"\",\"\",依頼書作成フォーム!D60)","v":""}]
[null,null,null,"・",{"$f":"IF(依頼書作成フォーム!D61=\"\",\"\",依頼書作成フォーム!D61)","v":""}]
["SPECIAL INSTRUCTIONS"]
[null,{"$f":"IF(依頼書作成フォーム!C74=\"\",\"\",依頼書作成フォーム!C74)","v":""}]
[]
[]
[]
[null,"受付店使用欄",null,null,null,null,null,"国際業務グループ使用欄"]
[null,"受付日",null,null,null,null,null,"持出日",null,null,null,"対顧支払日"]
[null,"検　印",null,"係　印",null,null,null,"検　印",null,"係　印",null,"検　印",null,"係　印"]
[]
[]
[]
[]
[null,null,null,null,null,null,null,null,null,null,null,null,null,null,null,null,"輸出手形取立依頼書2/3　（国際業務Ｇ控）"]

{"sheet":"③お客さま控","index":3,"n_rows":55,"n_cols":28,"rows_kept":55,"cut":false,"hidden":false,"merged":[[54,16,54,27],[39,0,40,2],[39,4,39,27],[40,4,40,27],[41,0,41,27],[42,0,43,0],[42,1,43,27],[35,15,36,16],[35,17,36,19],[35,20,36,22],[35,23,36,25],[38,0,38,2],[38,3,38,27],[45,14,53,27],[34,20,34,22],[34,23,34,25],[35,1,36,2],[35,3,36,4],[35,5,36,6],[35,7,36,8],[35,9,36,10],[35,11,36,12],[35,13,36,14],[34,1,34,2],[34,3,34,4],[34,5,34,6],[34,7,34,8],[34,9,34,10],[34,11,34,12],[34,13,34,14],[34,15,34,16],[34,17,34,19],[33,0,33,18],[29,0,32,0],[29,1,29,6],[29,7,29,11],[29,12,29,18],[30,1,30,6],[30,7,30,11],[30,12,30,18],[31,1,31,9],[31,10,31,18],[32,1,32,9],[17,14,17,15],[17,17,17,27],[18,15,18,17],[18,18,18,21],[18,22,18,27],[25,10,25,18],[25,19,32,27],[26,10,26,18],[27,0,27,18],[28,0,28,18],[32,10,32,18],[23,0,23,11],[24,0,24,11],[25,0,25,9],[26,0,26,9],[10,0,10,14],[10,16,10,27],[11,0,12,15],[11,16,11,27],[12,16,12,20],[12,22,12,26],[8,15,9,16],[8,17,9,27],[14,2,15,8],[14,9,15,13],[0,0,0,27],[1,0,1,27],[2,0,3,13],[3,15,6,16],[3,17,3,19],[3,20,3,27],[4,0,8,12],[4,17,6,19],[4,20,6,27],[12,32,16,44],[19,0,19,27],[21,0,21,27],[23,12,23,19],[23,20,23,27],[24,12,24,19],[24,20,24,27],[20,1,20,27],[22,1,22,27],[13,14,13,27],[14,14,14,19],[14,20,14,21],[14,22,14,27],[15,14,16,19],[15,20,16,21],[15,22,16,27],[16,0,16,4],[16,5,16,13],[13,0,13,8],[13,9,13,13],[14,0,15,1],[17,0,18,4],[17,5,18,6],[17,7,18,13]]}
["RECEIPT【預り証】　"]
["APPLICATION FOR COLLECTION"]
["大分銀行 御中"]
[null,null,null,null,null,null,null,null,null,null,null,null,null,null,null,"取組番号",null,"店番",null,null,"取組番号"]
["下記輸出手形および/または輸出船積書類の取立を依頼します。\n依頼に当たっては貴行より提示された外国向為替手形取立規定\nの各条項に従います。",null,null,null,null,null,null,null,null,null,null,null,null,null,null,null,null,null,null,null,"-104-"]
[]
[]
[]
[null,null,null,null,null,null,null,null,null,null,null,null,null,null,null,"ご依頼日",null,{"$f":"IF(依頼書作成フォーム!D4=\"\",\"\",依頼書作成フォーム!D4)","v":""}]
[]
[" お名前（英文）",null,null,null,null,null,null,null,null,null,null,null,null,null,null,null," 代り金決済方法"]
[{"$f":"IF(依頼書作成フォーム!D7=\"\",\"\",依頼書作成フォーム!D7)","v":""},null,null,null,null,null,null,null,null,null,null,null,null,null,null,null,{"$f":"IF(依頼書作成フォーム!D64=\"\",\"\",依頼書作成フォーム!D64)","v":""}]
[null,null,null,null,null,null,null,null,null,null,null,null,null,null,null,null,"為替予約番号",null,null,null,null,"（",{"$f":"IF(依頼書作成フォーム!D65=\"\",\"\",依頼書作成フォーム!D65)","v":""},null,null,null,null,"）"]
[" 金額",null,null,null,null,null,null,null,null," 手形番号",null,null,null,null," 代り金入金口座"]
[{"$f":"IF(依頼書作成フォーム!D11=\"\",\"\",依頼書作成フォーム!D11)","v":""},null,{"$f":"IF(依頼書作成フォーム!G11=\"\",\"\",依頼書作成フォーム!G11)","v":""},null,null,null,null,null,null,{"$f":"IF(依頼書作成フォーム!D17=\"\",\"-----\",依頼書作成フォーム!D17)","v":"-----"},null,null,null,null,"口座種類",null,null,null,null,null,"店番",null,"口座番号"]
[null,null,null,null,null,null,null,null,null,null,null,null,null,null,{"$f":"IF(依頼書作成フォーム!D67=\"\",\"\",依頼書作成フォーム!D67)","v":""},null,null,null,null,null,{"$f":"IF(依頼書作成フォーム!I67=\"\",\"\",依頼書作成フォーム!I67)","v":""},null,{"$f":"IF(依頼書作成フォーム!K67=\"\",\"\",依頼書作成フォーム!K67)","v":""}]
[" 建値 ",null,null,null,null," TENOR （テナー)"]
[{"$f":"IF(依頼書作成フォーム!D14=\"\",\"\",依頼書作成フォーム!D14)","v":""},null,null,null,null,{"$f":"IF(依頼書作成フォーム!D12=\"\",\"\",依頼書作成フォーム!D12)","v":""},null,{"$f":"IF(依頼書作成フォーム!G12=\"\",\"\",依頼書作成フォーム!G12)","v":""},null,null,null,null,null,null,"輸出前貸",null,{"$f":"IF(依頼書作成フォーム!D69=\"\",\"\",依頼書作成フォーム!D69)","v":""}]
[null,null,null,null,null,null,null,null,null,null,null,null,null,null,"期日",{"$f":"IF(依頼書作成フォーム!D70=\"\",\"\",依頼書作成フォーム!D70)","v":""},null,null,"金額 （円）",null,null,null,{"$f":"IF(依頼書作成フォーム!F71=\"\",\"\",依頼書作成フォーム!F71)","v":""}]
[" 輸入者"]
[null,{"$f":"IF(依頼書作成フォーム!D32=\"\",\"\",依頼書作成フォーム!D32)","v":""}]
[" 信用状発行銀行／取立銀行"]
[null,{"$f":"IF(依頼書作成フォーム!D31=\"\",\"\",依頼書作成フォーム!D31)","v":""}]
[" 信用状番号",null,null,null,null,null,null,null,null,null,null,null," 信用状発行日 ( ISSUE DATE )",null,null,null,null,null,null,null," 信用状原本"]
[{"$f":"IF(依頼書作成フォーム!D24=\"\",\"-----\",依頼書作成フォーム!D24)","v":"-----"},null,null,null,null,null,null,null,null,null,null,null,{"$f":"IF(依頼書作成フォーム!D25=\"\",\"-----\",依頼書作成フォーム!D25)","v":"-----"},null,null,null,null,null,null,null,{"$f":"IF(依頼書作成フォーム!D26=\"\",\"-----\",依頼書作成フォーム!D26)","v":"-----"}]
[" 船積期限 (LATEST SHIPPING DATE))",null,null,null,null,null,null,null,null,null," 有効期限 (EXPIRY DATE)"]
[{"$f":"IF(依頼書作成フォーム!D27=\"\",\"-----\",依頼書作成フォーム!D27)","v":"-----"},null,null,null,null,null,null,null,null,null,{"$f":"IF(依頼書作成フォーム!D28=\"\",\"-----\",依頼書作成フォーム!D28)","v":"-----"}]
[" 輸出商品名・数量"]
[{"$f":"IF(依頼書作成フォーム!D35=\"\",\"\",依頼書作成フォーム!D35)","v":""}]
["B/L"," B/L 番号",null,null,null,null,null," B/L 発行日",null,null,null,null," 船名"]
[null,{"$f":"IF(依頼書作成フォーム!D38=\"\",\"\",依頼書作成フォーム!D38)","v":""},null,null,null,null,null,{"$f":"IF(依頼書作成フォーム!D39=\"\",\"\",依頼書作成フォーム!D39)","v":""},null,null,null,null,{"$f":"IF(依頼書作成フォーム!D40=\"\",\"\",依頼書作成フォーム!D40)","v":""}]
[null," 船積港",null,null,null,null,null,null,null,null," 荷揚港"]
[null,{"$f":"IF(依頼書作成フォーム!D41=\"\",\"\",依頼書作成フォーム!D41)","v":""},null,null,null,null,null,null,null,null,{"$f":"IF(依頼書作成フォーム!D42=\"\",\"\",依頼書作成フォーム!D42)","v":""}]
["   DOCUMENTS ATTACHED"]
[null,"DRAFT",null,"COM.\nINVOICE",null,"BILL OF\nLADING",null,"N.N. B/L",null,"INSURANCE\n POLICY",null,"PACKING\nLIST",null,"INSPECTION\nCERT.",null,"CERT.OF ORIGIN",null,"BENE.\nCERT.",null,null,"CERT.",null,null,"OTHER "]
[null,{"$f":"IF(依頼書作成フォーム!I46=\"\",\"\",依頼書作成フォーム!I46)","v":""},null,{"$f":"IF(依頼書作成フォーム!I47=\"\",\"\",依頼書作成フォーム!I47)","v":""},null,{"$f":"IF(依頼書作成フォーム!I48=\"\",\"\",依頼書作成フォーム!I48)","v":""},null,{"$f":"IF(依頼書作成フォーム!I49=\"\",\"\",依頼書作成フォーム!I49)","v":""},null,{"$f":"IF(依頼書作成フォーム!I50=\"\",\"\",依頼書作成フォーム!I50)","v":""},null,{"$f":"IF(依頼書作成フォーム!I51=\"\",\"\",依頼書作成フォーム!I51)","v":""},null,{"$f":"IF(依頼書作成フォーム!I52=\"\",\"\",依頼書作成フォーム!I52)","v":""},null,{"$f":"IF(依頼書作成フォーム!I53=\"\",\"\",依頼書作成フォーム!I53)","v":""},null,{"$f":"IF(依頼書作成フォーム!I54=\"\",\"\",依頼書作成フォーム!I54)","v":""},null,null,{"$f":"IF(依頼書作成フォーム!I55=\"\",\"\",依頼書作成フォーム!I55)","v":""},null,null,{"$f":"IF(依頼書作成フォーム!I56=\"\",\"\",依頼書作成フォーム!I56)","v":""}]
[]
[]
["DISCREPANCY",null,null,"　(ディスクレの内容）"]
[{"$f":"IF(依頼書作成フォーム!D59=\"\",\"\",依頼書作成フォーム!D59)","v":""},null,null,"・",{"$f":"IF(依頼書作成フォーム!D60=\"\",\"\",依頼書作成フォーム!D60)","v":""}]
[null,null,null,"・",{"$f":"IF(依頼書作成フォーム!D61=\"\",\"\",依頼書作成フォーム!D61)","v":""}]
["SPECIAL INSTRUCTIONS"]
[null,{"$f":"IF(依頼書作成フォーム!C74=\"\",\"\",依頼書作成フォーム!C74)","v":""}]
[]
[]
[null,null,null,null,null,null,null,null,null,null,null,null,null,null,"上記輸出手形および/または輸出船積書類を取立のために\nお預かりいたしました。\n\n　　　日付：\n\n　　　取引店：大分銀行\n\n\n　　　　　　　担当者印"]
[]
[]
[]
[]
[]
[]
[]
[]
[null,null,null,null,null,null,null,null,null,null,null,null,null,null,null,null,"輸出手形取立依頼書3/3　（お客さま控）"]

{"sheet":"手形(JPY)","index":4,"n_rows":35,"n_cols":34,"rows_kept":35,"cut":false,"hidden":false,"merged":[[13,46,13,60],[14,46,14,60],[15,46,15,60],[16,46,16,60],[14,39,14,45],[15,39,19,45],[34,46,34,60],[18,46,18,60],[19,46,19,60],[28,5,28,16],[28,20,28,26],[29,39,30,45],[29,46,30,60],[30,3,33,16],[30,22,33,36],[31,18,32,20],[31,39,31,45],[31,46,31,60],[32,39,32,45],[32,46,32,60],[33,46,33,60],[27,39,28,45],[21,46,21,60],[27,46,28,60],[23,2,24,34],[23,39,26,45],[23,46,26,60],[26,2,26,36],[27,7,27,36],[21,1,21,2],[21,3,21,4],[21,5,21,11],[21,12,21,36],[21,39,21,45],[22,1,22,36],[22,39,22,45],[22,46,22,60],[12,1,12,2],[18,3,18,8],[19,1,19,36],[20,3,20,4],[20,5,20,13],[20,20,20,29],[20,30,20,36],[16,33,16,36],[13,18,14,20],[12,22,15,36],[12,3,15,16],[20,39,20,45],[20,46,20,60],[0,39,0,45],[0,46,0,60],[1,1,1,36],[1,39,1,45],[1,46,1,60],[2,20,2,29],[2,30,2,36],[3,12,3,36],[2,3,2,4],[0,3,0,8],[2,5,2,13],[3,3,3,4],[3,5,3,11],[3,1,3,2],[30,1,30,2],[34,33,34,36],[2,46,2,60],[2,39,2,45],[5,46,8,60],[5,39,8,45],[4,46,4,60],[4,39,4,45],[13,39,13,45],[3,46,3,60],[3,39,3,45],[11,46,12,60],[11,39,12,45],[9,46,10,60],[9,39,10,45],[5,2,6,34],[9,7,9,36],[10,5,10,16],[10,20,10,26],[4,1,4,36],[8,2,8,36]]}
[null,"No.",null,{"$f":"IF(依頼書作成フォーム!D17=\"\",\"\",依頼書作成フォーム!D17)","v":""}]
[null,"BILL OF EXCHANGE"]
[null,"For",null,{"$f":"IF(依頼書作成フォーム!D11=\"\",\"\",依頼書作成フォーム!D11)","v":""},null,{"$f":"IF(依頼書作成フォーム!G11=\"\",\"\",依頼書作成フォーム!G11)","v":""},null,null,null,null,null,null,null,null,null,null,null,null,null,null,{"$f":"IF(依頼書作成フォーム!D18=\"\",\"\",依頼書作成フォーム!D18)","v":""},null,null,null,null,null,null,null,null,null,{"$f":"IF(依頼書作成フォーム!D19=\"\",\"\",依頼書作成フォーム!D19)","v":""}]
[null,{"$f":"IF(D4=\"\",\"\",\"At\")","v":""},null,{"$f":"IF(依頼書作成フォーム!D12=\"\",\"\",依頼書作成フォーム!D12)","v":""},null,{"$f":"IF(依頼書作成フォーム!G12=\"\",\"\",依頼書作成フォーム!G12)","v":""},null,null,null,null,null,null,"of this FIRST of Exchange (Second of the same tenor and"]
[null,"date being unpaid) Pay to             THE OITA BANK, LTD.          or order the sum of "]
[null,null,{"$f":"Sheet2!C17","v":"NO ONLY"}]
[]
[null,"Value received and charge the same to account of"]
[null,null,{"$f":"IF(依頼書作成フォーム!D32=\"\",\"\",依頼書作成フォーム!D32)","v":""}]
[null,"Drawn under",null,null,null,null,null,{"$f":"IF(依頼書作成フォーム!D31=\"\",\"\",依頼書作成フォーム!D31)","v":""}]
[null,"L/C No. ",null,null,null,{"$f":"IF(依頼書作成フォーム!D24=\"\",\"\",依頼書作成フォーム!D24)","v":""},null,null,null,null,null,null,null,null,null,null,null,"dated",null,null,{"$f":"IF(依頼書作成フォーム!D25=\"\",\"\",依頼書作成フォーム!D25)","v":""}]
[]
[null,"To",null,{"$f":"IF(依頼書作成フォーム!D31=\"\",\"\",依頼書作成フォーム!D31)","v":""}]
[null,null,null,null,null,null,null,null,null,null,null,null,null,null,null,null,null,null,"収入\n印紙"]
[]
[]
[null,null,null,null,null,null,null,null,null,null,null,null,null,null,null,null,null,null,null,null,null,null,null,null,null,null,null,null,null,null,null,null,null,"DRAWER\n（輸出者）"]
[]
[null,"No.",null,{"$f":"D1","v":""}]
[null,"BILL OF EXCHANGE"]
[null,"For",null,{"$f":"D3","v":""},null,{"$f":"F3","v":""},null,null,null,null,null,null,null,null,null,null,null,null,null,null,{"$f":"U3","v":""},null,null,null,null,null,null,null,null,null,{"$f":"AE3","v":""}]
[null,{"$f":"B4","v":""},null,{"$f":"D4","v":""},null,{"$f":"F4","v":""},null,null,null,null,null,null,"of this SECOND of Exchange (Second of the same tenor and"]
[null,"date being unpaid) Pay to             THE OITA BANK, LTD.          or order the sum of "]
[null,null,{"$f":"Sheet2!C17","v":"NO ONLY"}]
[]
[null,"Value received and charge the same to account of"]
[null,null,{"$f":"C9","v":""}]
[null,"Drawn under",null,null,null,null,null,{"$f":"H10","v":""}]
[null,"L/C No. ",null,null,null,{"$f":"F11","v":""},null,null,null,null,null,null,null,null,null,null,null,"dated",null,null,{"$f":"U11","v":""}]
[]
[null,"To",null,{"$f":"D13","v":""}]
[]
[]
[]
[null,null,null,null,null,null,null,null,null,null,null,null,null,null,null,null,null,null,null,null,null,null,null,null,null,null,null,null,null,null,null,null,null,"DRAWER\n（輸出者）"]

{"sheet":"手形(USD)","index":5,"n_rows":35,"n_cols":34,"rows_kept":35,"cut":false,"hidden":false,"merged":[[0,3,0,8],[0,39,0,45],[0,46,0,60],[1,1,1,36],[1,39,1,45],[1,46,1,60],[3,39,3,45],[3,46,3,60],[2,3,2,4],[2,5,2,13],[2,20,2,29],[2,30,2,36],[2,39,2,45],[2,46,2,60],[12,1,12,2],[12,3,15,16],[12,22,15,36],[3,1,3,2],[3,3,3,4],[3,5,3,11],[3,12,3,36],[9,7,9,36],[13,18,14,20],[9,39,10,45],[9,46,10,60],[10,5,10,16],[10,20,10,26],[4,1,4,36],[4,39,4,45],[4,46,4,60],[5,2,6,34],[5,39,8,45],[5,46,8,60],[8,2,8,36],[13,39,13,45],[11,39,12,45],[16,33,16,36],[16,46,16,60],[13,46,13,60],[14,39,14,45],[14,46,14,60],[15,39,19,45],[15,46,15,60],[11,46,12,60],[18,3,18,8],[18,46,18,60],[19,1,19,36],[19,46,19,60],[21,46,21,60],[20,3,20,4],[20,5,20,13],[20,20,20,29],[20,30,20,36],[20,39,20,45],[20,46,20,60],[21,1,21,2],[21,3,21,4],[21,5,21,11],[21,12,21,36],[21,39,21,45],[22,1,22,36],[22,39,22,45],[22,46,22,60],[23,2,24,34],[23,39,26,45],[23,46,26,60],[26,2,26,36],[27,7,27,36],[27,39,28,45],[27,46,28,60],[28,5,28,16],[28,20,28,26],[34,33,34,36],[34,46,34,60],[30,1,30,2],[30,3,33,16],[30,22,33,36],[31,18,32,20],[31,39,31,45],[31,46,31,60],[32,39,32,45],[32,46,32,60],[33,46,33,60],[29,39,30,45],[29,46,30,60]]}
[null,"No.",null,{"$f":"IF(依頼書作成フォーム!D17=\"\",\"\",依頼書作成フォーム!D17)","v":""}]
[null,"BILL OF EXCHANGE"]
[null,"For",null,{"$f":"IF(依頼書作成フォーム!D11=\"\",\"\",依頼書作成フォーム!D11)","v":""},null,{"$f":"IF(依頼書作成フォーム!G11=\"\",\"\",依頼書作成フォーム!G11)","v":""},null,null,null,null,null,null,null,null,null,null,null,null,null,null,{"$f":"IF(依頼書作成フォーム!D18=\"\",\"\",依頼書作成フォーム!D18)","v":""},null,null,null,null,null,null,null,null,null,{"$f":"IF(依頼書作成フォーム!D19=\"\",\"\",依頼書作成フォーム!D19)","v":""}]
[null,{"$f":"IF(D4=\"\",\"\",\"At\")","v":""},null,{"$f":"IF(依頼書作成フォーム!D12=\"\",\"\",依頼書作成フォーム!D12)","v":""},null,{"$f":"IF(依頼書作成フォーム!G12=\"\",\"\",依頼書作成フォーム!G12)","v":""},null,null,null,null,null,null,"of this FIRST of Exchange (Second of the same tenor and"]
[null,"date being unpaid) Pay to             THE OITA BANK, LTD.          or order the sum of "]
[null,null,{"$f":"Sheet2!C18","v":"NO ONLY"}]
[]
[null,"Value received and charge the same to account of"]
[null,null,{"$f":"IF(依頼書作成フォーム!D32=\"\",\"\",依頼書作成フォーム!D32)","v":""}]
[null,"Drawn under",null,null,null,null,null,{"$f":"IF(依頼書作成フォーム!D31=\"\",\"\",依頼書作成フォーム!D31)","v":""}]
[null,"L/C No. ",null,null,null,{"$f":"IF(依頼書作成フォーム!D24=\"\",\"\",依頼書作成フォーム!D24)","v":""},null,null,null,null,null,null,null,null,null,null,null,"dated",null,null,{"$f":"IF(依頼書作成フォーム!D25=\"\",\"\",依頼書作成フォーム!D25)","v":""}]
[]
[null,"To",null,{"$f":"IF(依頼書作成フォーム!D31=\"\",\"\",依頼書作成フォーム!D31)","v":""}]
[null,null,null,null,null,null,null,null,null,null,null,null,null,null,null,null,null,null,"収入\n印紙"]
[]
[]
[null,null,null,null,null,null,null,null,null,null,null,null,null,null,null,null,null,null,null,null,null,null,null,null,null,null,null,null,null,null,null,null,null,"DRAWER\n（輸出者）"]
[]
[null,"No.",null,{"$f":"D1","v":""}]
[null,"BILL OF EXCHANGE"]
[null,"For",null,{"$f":"D3","v":""},null,{"$f":"F3","v":""},null,null,null,null,null,null,null,null,null,null,null,null,null,null,{"$f":"U3","v":""},null,null,null,null,null,null,null,null,null,{"$f":"AE3","v":""}]
[null,{"$f":"B4","v":""},null,{"$f":"D4","v":""},null,{"$f":"F4","v":""},null,null,null,null,null,null,"of this SECOND of Exchange (Second of the same tenor and"]
[null,"date being unpaid) Pay to             THE OITA BANK, LTD.          or order the sum of "]
[null,null,{"$f":"Sheet2!C18","v":"NO ONLY"}]
[]
[null,"Value received and charge the same to account of"]
[null,null,{"$f":"C9","v":""}]
[null,"Drawn under",null,null,null,null,null,{"$f":"H10","v":""}]
[null,"L/C No. ",null,null,null,{"$f":"F11","v":""},null,null,null,null,null,null,null,null,null,null,null,"dated",null,null,{"$f":"U11","v":""}]
[]
[null,"To",null,{"$f":"D13","v":""}]
[]
[]
[]
[null,null,null,null,null,null,null,null,null,null,null,null,null,null,null,null,null,null,null,null,null,null,null,null,null,null,null,null,null,null,null,null,null,"DRAWER\n（輸出者）"]

{"sheet":"LC無　手形(JPY) ","index":6,"n_rows":37,"n_cols":34,"rows_kept":37,"cut":false,"hidden":false,"merged":[[0,3,0,8],[0,39,0,45],[0,46,0,60],[1,39,1,45],[1,46,1,60],[5,46,5,60],[4,3,4,4],[4,5,4,13],[4,20,4,29],[4,30,4,36],[4,39,4,45],[4,46,4,60],[5,1,5,2],[5,3,5,4],[5,5,5,11],[5,12,5,36],[5,39,5,45],[16,39,20,45],[16,46,16,60],[14,39,14,45],[12,46,13,60],[6,1,6,36],[6,39,6,45],[6,46,6,60],[7,2,8,34],[7,39,10,45],[7,46,10,60],[10,2,10,36],[13,1,13,2],[13,3,16,16],[13,22,16,36],[14,18,15,20],[12,39,13,45],[24,46,24,60],[25,1,25,36],[25,39,25,45],[25,46,25,60],[26,2,27,34],[24,1,24,2],[24,3,24,4],[24,5,24,11],[24,12,24,36],[24,39,24,45],[2,46,2,60],[0,11,1,28],[2,1,3,8],[2,9,3,17],[19,11,20,28],[2,20,2,29],[2,30,2,36],[2,39,2,45],[17,33,17,36],[17,46,17,60],[19,3,19,8],[19,46,19,60],[20,46,20,60],[14,46,14,60],[15,39,15,45],[15,46,15,60],[21,20,21,29],[21,30,21,36],[21,39,21,45],[21,46,21,60],[23,3,23,4],[23,5,23,13],[23,20,23,29],[23,30,23,36],[23,39,23,45],[23,46,23,60],[21,1,22,8],[21,9,22,17],[36,33,36,36],[36,46,36,60],[26,39,29,45],[26,46,29,60],[29,2,29,36],[31,39,32,45],[31,46,32,60],[32,1,32,2],[32,3,35,16],[32,22,35,36],[33,18,34,20],[34,39,34,45],[35,46,35,60],[33,39,33,45],[33,46,33,60],[34,46,34,60]]}
[null,"No.",null,{"$f":"IF(依頼書作成フォーム!D17=\"\",\"\",依頼書作成フォーム!D17)","v":""},null,null,null,null,null,null,null,"BILL OF EXCHANGE"]
[]
[null,"Documents against ",null,null,null,null,null,null,null,{"$f":"Sheet2!C1","v":{"$error":"#N/A"}},null,null,null,null,null,null,null,null,null,null,{"$f":"IF(依頼書作成フォーム!D18=\"\",\"\",依頼書作成フォーム!D18)","v":""},null,null,null,null,null,null,null,null,null,{"$f":"IF(依頼書作成フォーム!D19=\"\",\"\",依頼書作成フォーム!D19)","v":""}]
[]
[null,"For",null,{"$f":"IF(依頼書作成フォーム!D11=\"\",\"\",依頼書作成フォーム!D11)","v":""},null,{"$f":"IF(依頼書作成フォーム!G11=\"\",\"\",依頼書作成フォーム!G11)","v":""}]
[null,{"$f":"IF(D6=\"\",\"\",\"At\")","v":""},null,{"$f":"IF(依頼書作成フォーム!D12=\"\",\"\",依頼書作成フォーム!D12)","v":""},null,{"$f":"IF(依頼書作成フォーム!G12=\"\",\"\",依頼書作成フォーム!G12)","v":""},null,null,null,null,null,null,"of this FIRST of Exchange (Second of the same tenor and"]
[null,"date being unpaid) Pay to             THE OITA BANK, LTD.          or order the sum of "]
[null,null,{"$f":"Sheet2!C17","v":"NO ONLY"}]
[]
[null,"Value received and charge the same to account of"]
[null,null,{"$f":"IF(依頼書作成フォーム!D32=\"\",\"\",依頼書作成フォーム!D32)","v":""}]
[]
[]
[null,"To",null,{"$f":"IF(依頼書作成フォーム!D32=\"\",\"\",依頼書作成フォーム!D32)","v":""}]
[null,null,null,null,null,null,null,null,null,null,null,null,null,null,null,null,null,null,"収入\n印紙"]
[]
[]
[null,null,null,null,null,null,null,null,null,null,null,null,null,null,null,null,null,null,null,null,null,null,null,null,null,null,null,null,null,null,null,null,null,"Signature"]
[]
[null,"No.",null,{"$f":"D1","v":""},null,null,null,null,null,null,null,"BILL OF EXCHANGE"]
[]
[null,"Documents against ",null,null,null,null,null,null,null,{"$f":"J3","v":{"$error":"#N/A"}},null,null,null,null,null,null,null,null,null,null,{"$f":"U3","v":""},null,null,null,null,null,null,null,null,null,{"$f":"AE3","v":""}]
[]
[null,"For",null,{"$f":"D5","v":""},null,{"$f":"F5","v":""}]
[null,{"$f":"IF(D25=\"\",\"\",\"At\")","v":""},null,{"$f":"D6","v":""},null,{"$f":"F6","v":""},null,null,null,null,null,null,"of this SECOND of Exchange (Second of the same tenor and"]
[null,"date being unpaid) Pay to             THE OITA BANK, LTD.          or order the sum of "]
[null,null,{"$f":"C8","v":"NO ONLY"}]
[]
[null,"Value received and charge the same to account of"]
[null,null,{"$f":"C11","v":""}]
[]
[]
[null,"To",null,{"$f":"D14","v":""}]
[]
[]
[]
[null,null,null,null,null,null,null,null,null,null,null,null,null,null,null,null,null,null,null,null,null,null,null,null,null,null,null,null,null,null,null,null,null,"Signature"]

{"sheet":"LC無　手形(USD)  ","index":7,"n_rows":37,"n_cols":34,"rows_kept":37,"cut":false,"hidden":false,"merged":[[2,46,2,60],[0,3,0,8],[0,11,1,28],[0,39,0,45],[0,46,0,60],[1,39,1,45],[1,46,1,60],[2,1,3,8],[2,9,3,17],[2,20,2,29],[2,30,2,36],[2,39,2,45],[5,46,5,60],[4,3,4,4],[4,5,4,13],[4,20,4,29],[4,30,4,36],[4,39,4,45],[4,46,4,60],[5,1,5,2],[5,3,5,4],[5,5,5,11],[5,12,5,36],[5,39,5,45],[6,1,6,36],[6,39,6,45],[6,46,6,60],[7,2,8,34],[7,39,10,45],[7,46,10,60],[10,2,10,36],[13,1,13,2],[13,3,16,16],[13,22,16,36],[14,18,15,20],[14,39,14,45],[15,39,15,45],[19,3,19,8],[19,11,20,28],[19,46,19,60],[20,46,20,60],[12,39,13,45],[12,46,13,60],[14,46,14,60],[15,46,15,60],[21,46,21,60],[16,39,20,45],[16,46,16,60],[17,33,17,36],[17,46,17,60],[21,1,22,8],[21,9,22,17],[21,20,21,29],[21,30,21,36],[21,39,21,45],[24,46,24,60],[23,3,23,4],[23,5,23,13],[23,20,23,29],[23,30,23,36],[23,39,23,45],[23,46,23,60],[24,1,24,2],[24,3,24,4],[24,5,24,11],[24,12,24,36],[24,39,24,45],[25,1,25,36],[25,39,25,45],[25,46,25,60],[26,2,27,34],[26,39,29,45],[26,46,29,60],[29,2,29,36],[32,1,32,2],[32,3,35,16],[32,22,35,36],[33,18,34,20],[33,39,33,45],[34,39,34,45],[35,46,35,60],[36,33,36,36],[36,46,36,60],[31,39,32,45],[31,46,32,60],[33,46,33,60],[34,46,34,60]]}
[null,"No.",null,{"$f":"IF(依頼書作成フォーム!D17=\"\",\"\",依頼書作成フォーム!D17)","v":""},null,null,null,null,null,null,null,"BILL OF EXCHANGE"]
[]
[null,"Documents against ",null,null,null,null,null,null,null,{"$f":"Sheet2!C1","v":{"$error":"#N/A"}},null,null,null,null,null,null,null,null,null,null,{"$f":"IF(依頼書作成フォーム!D18=\"\",\"\",依頼書作成フォーム!D18)","v":""},null,null,null,null,null,null,null,null,null,{"$f":"IF(依頼書作成フォーム!D19=\"\",\"\",依頼書作成フォーム!D19)","v":""}]
[]
[null,"For",null,{"$f":"IF(依頼書作成フォーム!D11=\"\",\"\",依頼書作成フォーム!D11)","v":""},null,{"$f":"IF(依頼書作成フォーム!G11=\"\",\"\",依頼書作成フォーム!G11)","v":""}]
[null,{"$f":"IF(D6=\"\",\"\",\"At\")","v":""},null,{"$f":"IF(依頼書作成フォーム!D12=\"\",\"\",依頼書作成フォーム!D12)","v":""},null,{"$f":"IF(依頼書作成フォーム!G12=\"\",\"\",依頼書作成フォーム!G12)","v":""},null,null,null,null,null,null,"of this FIRST of Exchange (Second of the same tenor and"]
[null,"date being unpaid) Pay to             THE OITA BANK, LTD.          or order the sum of "]
[null,null,{"$f":"Sheet2!C18","v":"NO ONLY"}]
[]
[null,"Value received and charge the same to account of"]
[null,null,{"$f":"IF(依頼書作成フォーム!D32=\"\",\"\",依頼書作成フォーム!D32)","v":""}]
[]
[]
[null,"To",null,{"$f":"IF(依頼書作成フォーム!D32=\"\",\"\",依頼書作成フォーム!D32)","v":""}]
[null,null,null,null,null,null,null,null,null,null,null,null,null,null,null,null,null,null,"収入\n印紙"]
[]
[]
[null,null,null,null,null,null,null,null,null,null,null,null,null,null,null,null,null,null,null,null,null,null,null,null,null,null,null,null,null,null,null,null,null,"Signature"]
[]
[null,"No.",null,{"$f":"D1","v":""},null,null,null,null,null,null,null,"BILL OF EXCHANGE"]
[]
[null,"Documents against ",null,null,null,null,null,null,null,{"$f":"J3","v":{"$error":"#N/A"}},null,null,null,null,null,null,null,null,null,null,{"$f":"U3","v":""},null,null,null,null,null,null,null,null,null,{"$f":"AE3","v":""}]
[]
[null,"For",null,{"$f":"D5","v":""},null,{"$f":"F5","v":""}]
[null,{"$f":"IF(D25=\"\",\"\",\"At\")","v":""},null,{"$f":"D6","v":""},null,{"$f":"F6","v":""},null,null,null,null,null,null,"of this SECOND of Exchange (Second of the same tenor and"]
[null,"date being unpaid) Pay to             THE OITA BANK, LTD.          or order the sum of "]
[null,null,{"$f":"Sheet2!C18","v":"NO ONLY"}]
[]
[null,"Value received and charge the same to account of"]
[null,null,{"$f":"C11","v":""}]
[]
[]
[null,"To",null,{"$f":"D14","v":""}]
[]
[]
[]
[null,null,null,null,null,null,null,null,null,null,null,null,null,null,null,null,null,null,null,null,null,null,null,null,null,null,null,null,null,null,null,null,null,"Signature"]

{"sheet":"Sheet2","index":8,"n_rows":18,"n_cols":3,"rows_kept":18,"cut":false,"hidden":false,"merged":[]}
[{"$f":"依頼書作成フォーム!S22","v":"00:00:00"},null,{"$f":"VLOOKUP(A1,B2:C3,2,FALSE)","v":{"$error":"#N/A"}}]
[null,"  D/P","Payment"]
[null,"  D/A","Acceptance"]
[]
[]
[]
[]
[]
[]
[]
[]
[]
["JPY",{"$f":"依頼書作成フォーム!G11","v":0},{"$f":"SpellNumberToEnglish(B13)","v":"No only"}]
["USD",{"$f":"依頼書作成フォーム!G11","v":0},{"$f":"SpellNumberToEnglish(B14)","v":"No only"}]
[]
[]
["JPY",null,{"$f":"UPPER(C13)","v":"NO ONLY"}]
["USD",null,{"$f":"UPPER(C14)","v":"NO ONLY"}]